BEGIN:VCALENDAR
VERSION:2.0
PRODID:-//pretix//pretix.eu//
BEGIN:VTIMEZONE
TZID:Europe/Berlin
BEGIN:STANDARD
DTSTART:20001029T040000
RRULE:FREQ=YEARLY;BYDAY=-1SU;BYMONTH=10
TZNAME:CET
TZOFFSETFROM:+0200
TZOFFSETTO:+0100
END:STANDARD
BEGIN:DAYLIGHT
DTSTART:20000326T030000
RRULE:FREQ=YEARLY;BYDAY=-1SU;BYMONTH=3
TZNAME:CEST
TZOFFSETFROM:+0100
TZOFFSETTO:+0200
END:DAYLIGHT
END:VTIMEZONE
BEGIN:VEVENT
UID:pretix-psi-enlit2021-2659828@tickets.psi.ag
DTSTART;TZID=Europe/Berlin:20211202T143000
DTEND;TZID=Europe/Berlin:20211202T150000
DESCRIPTION:Tickets: https://tickets.psi.ag/enlit2021/2659828/\nOrganizer: 
 PSI Software AG
DTSTAMP:20260422T002640Z
LOCATION:Hall 16\, Booth E80\, Strada Statale Sempione\,\, 28 20017\, Rho M
 ilano
SUMMARY:Enlit - book a meeting
END:VEVENT
END:VCALENDAR
