BEGIN:VCALENDAR
VERSION:2.0
PRODID:-//pretix//pretix.eu//
BEGIN:VTIMEZONE
TZID:Europe/Berlin
BEGIN:STANDARD
DTSTART:20001029T040000
RRULE:FREQ=YEARLY;BYDAY=-1SU;BYMONTH=10
TZNAME:CET
TZOFFSETFROM:+0200
TZOFFSETTO:+0100
END:STANDARD
BEGIN:DAYLIGHT
DTSTART:20000326T030000
RRULE:FREQ=YEARLY;BYDAY=-1SU;BYMONTH=3
TZNAME:CEST
TZOFFSETFROM:+0100
TZOFFSETTO:+0200
END:DAYLIGHT
END:VTIMEZONE
BEGIN:VEVENT
UID:pretix-psi-infodays2022-0@tickets.psi.ag
DTSTART;TZID=Europe/Berlin:20221116T083000
DTEND;TZID=Europe/Berlin:20221117T170000
DESCRIPTION:Tickets: https://tickets.psi.ag/infodays2022/\nVeranstalter: PS
 I Software AG
DTSTAMP:20260420T051215Z
SUMMARY:PSI EE Infotage 2022 - Online Edition
END:VEVENT
END:VCALENDAR
